BEGIN:VCALENDAR
VERSION:2.0
PRODID:-//Onn Specialties - ECPv6.15.20//NONSGML v1.0//EN
CALSCALE:GREGORIAN
METHOD:PUBLISH
X-ORIGINAL-URL:https://onnspecialties.com
X-WR-CALDESC:Events for Onn Specialties
REFRESH-INTERVAL;VALUE=DURATION:PT1H
X-Robots-Tag:noindex
X-PUBLISHED-TTL:PT1H
BEGIN:VTIMEZONE
TZID:America/New_York
BEGIN:DAYLIGHT
TZOFFSETFROM:-0500
TZOFFSETTO:-0400
TZNAME:EDT
DTSTART:20250309T070000
END:DAYLIGHT
BEGIN:STANDARD
TZOFFSETFROM:-0400
TZOFFSETTO:-0500
TZNAME:EST
DTSTART:20251102T060000
END:STANDARD
BEGIN:DAYLIGHT
TZOFFSETFROM:-0500
TZOFFSETTO:-0400
TZNAME:EDT
DTSTART:20260308T070000
END:DAYLIGHT
BEGIN:STANDARD
TZOFFSETFROM:-0400
TZOFFSETTO:-0500
TZNAME:EST
DTSTART:20261101T060000
END:STANDARD
BEGIN:DAYLIGHT
TZOFFSETFROM:-0500
TZOFFSETTO:-0400
TZNAME:EDT
DTSTART:20270314T070000
END:DAYLIGHT
BEGIN:STANDARD
TZOFFSETFROM:-0400
TZOFFSETTO:-0500
TZNAME:EST
DTSTART:20271107T060000
END:STANDARD
END:VTIMEZONE
BEGIN:VEVENT
DTSTART;TZID=America/New_York:20260615T150000
DTEND;TZID=America/New_York:20260615T190000
DTSTAMP:20260423T123909
CREATED:20260128T211329Z
LAST-MODIFIED:20260128T211447Z
UID:25100-1781535600-1781550000@onnspecialties.com
SUMMARY:2026 Billerica Community Farmers Market June 15
DESCRIPTION:Welcome to The Billerica Community Farmers Market \nJoin us and explore over 40 local vendors offering the freshest produce\, meat\, dairy\, fish\, flowers\, prepared food\, drinks\, quality hand-crafted products and much more.
URL:https://onnspecialties.com/event/2026-billerica-community-farmers-market-june-15/
LOCATION:Billerica Farmers Market\, 793 Boston Road\, Billerica\, MA\, 01821\, United States
CATEGORIES:Entertainment,Farmers Market,Festival,Food Trucks,Market,Music,Shopping,Specialty Foods,vendors
ATTACH;FMTTYPE=image/jpeg:https://onnspecialties.com/wp-content/uploads/2026/01/2026-Billerica-Farmers-market.jpg
END:VEVENT
BEGIN:VEVENT
DTSTART;TZID=America/New_York:20260622T150000
DTEND;TZID=America/New_York:20260622T190000
DTSTAMP:20260423T123909
CREATED:20260128T212300Z
LAST-MODIFIED:20260128T214253Z
UID:25225-1782140400-1782154800@onnspecialties.com
SUMMARY:2026 Billerica Community Farmers Market June 22
DESCRIPTION:Welcome to The Billerica Community Farmers Market \nJoin us and explore over 40 local vendors offering the freshest produce\, meat\, dairy\, fish\, flowers\, prepared food\, drinks\, quality hand-crafted products and much more.
URL:https://onnspecialties.com/event/2026-billerica-community-farmers-market-june-22/
LOCATION:Billerica Farmers Market\, 793 Boston Road\, Billerica\, MA\, 01821\, United States
CATEGORIES:Entertainment,Farmers Market,Festival,Food Trucks,Market,Music,Shopping,Specialty Foods,vendors
ATTACH;FMTTYPE=image/jpeg:https://onnspecialties.com/wp-content/uploads/2026/01/2026-Billerica-Farmers-market.jpg
END:VEVENT
BEGIN:VEVENT
DTSTART;TZID=America/New_York:20260629T150000
DTEND;TZID=America/New_York:20260629T190000
DTSTAMP:20260423T123909
CREATED:20260128T212400Z
LAST-MODIFIED:20260128T214237Z
UID:25226-1782745200-1782759600@onnspecialties.com
SUMMARY:2026 Billerica Community Farmers Market June 29
DESCRIPTION:Welcome to The Billerica Community Farmers Market \nJoin us and explore over 40 local vendors offering the freshest produce\, meat\, dairy\, fish\, flowers\, prepared food\, drinks\, quality hand-crafted products and much more.
URL:https://onnspecialties.com/event/2026-billerica-community-farmers-market-june-29/
LOCATION:Billerica Farmers Market\, 793 Boston Road\, Billerica\, MA\, 01821\, United States
CATEGORIES:Entertainment,Farmers Market,Festival,Food Trucks,Market,Music,Shopping,Specialty Foods,vendors
ATTACH;FMTTYPE=image/jpeg:https://onnspecialties.com/wp-content/uploads/2026/01/2026-Billerica-Farmers-market.jpg
END:VEVENT
BEGIN:VEVENT
DTSTART;TZID=America/New_York:20260704T100000
DTEND;TZID=America/New_York:20260705T170000
DTSTAMP:20260423T123909
CREATED:20260119T190047Z
LAST-MODIFIED:20260119T190047Z
UID:23906-1783159200-1783270800@onnspecialties.com
SUMMARY:Gunstock 4th of July Weekend Craft Fair 2026
DESCRIPTION:
URL:https://onnspecialties.com/event/gunstock-4th-of-july-weekend-craft-fair-2026/
LOCATION:Gunstock Mountain Resort\, 719 Cherry Valley Road\, Route 11A\, Gilford\, NH\, United States
CATEGORIES:Arts & Craft Festival,Craft Festival,Fairs,Festival,Shopping,Specialty Foods,vendors
ATTACH;FMTTYPE=image/jpeg:https://onnspecialties.com/wp-content/uploads/2026/01/Gunstock-4th-of-july-craft-fair.jpg
END:VEVENT
BEGIN:VEVENT
DTSTART;TZID=America/New_York:20260706T150000
DTEND;TZID=America/New_York:20260706T190000
DTSTAMP:20260423T123909
CREATED:20260128T212400Z
LAST-MODIFIED:20260128T214213Z
UID:25235-1783350000-1783364400@onnspecialties.com
SUMMARY:2026 Billerica Community Farmers Market July 6
DESCRIPTION:Welcome to The Billerica Community Farmers Market \nJoin us and explore over 40 local vendors offering the freshest produce\, meat\, dairy\, fish\, flowers\, prepared food\, drinks\, quality hand-crafted products and much more.
URL:https://onnspecialties.com/event/2026-billerica-community-farmers-market-july-6/
LOCATION:Billerica Farmers Market\, 793 Boston Road\, Billerica\, MA\, 01821\, United States
CATEGORIES:Entertainment,Farmers Market,Festival,Food Trucks,Market,Music,Shopping,Specialty Foods,vendors
ATTACH;FMTTYPE=image/jpeg:https://onnspecialties.com/wp-content/uploads/2026/01/2026-Billerica-Farmers-market.jpg
END:VEVENT
BEGIN:VEVENT
DTSTART;VALUE=DATE:20260710
DTEND;VALUE=DATE:20260713
DTSTAMP:20260423T123909
CREATED:20260310T181157Z
LAST-MODIFIED:20260310T181157Z
UID:30060-1783641600-1783900799@onnspecialties.com
SUMMARY:Joyce's Craft Shows Arts & Crafts Festival  July 2026
DESCRIPTION:Join Us!!!\nFriday & Saturday 10am-5pm \nSunday 10am-4pm
URL:https://onnspecialties.com/event/joyces-craft-shows-arts-crafts-festival-july-2026/
LOCATION:Brewster Academy\, 80 Academy Dr.\, Rt. 28\, Wolfeboro\, NH\, United States
CATEGORIES:Arts & Craft Festival,Craft Festival,Festival,Shopping,Specialty Foods
ATTACH;FMTTYPE=image/jpeg:https://onnspecialties.com/wp-content/uploads/2026/03/260710-12-Joyces-Craft-Shows.jpg
END:VEVENT
BEGIN:VEVENT
DTSTART;TZID=America/New_York:20260713T150000
DTEND;TZID=America/New_York:20260713T190000
DTSTAMP:20260423T123909
CREATED:20260128T212929Z
LAST-MODIFIED:20260128T212948Z
UID:25263-1783954800-1783969200@onnspecialties.com
SUMMARY:2026 Billerica Community Farmers Market July 13
DESCRIPTION:Welcome to The Billerica Community Farmers Market \nJoin us and explore over 40 local vendors offering the freshest produce\, meat\, dairy\, fish\, flowers\, prepared food\, drinks\, quality hand-crafted products and much more.
URL:https://onnspecialties.com/event/2026-billerica-community-farmers-market-july-13/
LOCATION:Billerica Farmers Market\, 793 Boston Road\, Billerica\, MA\, 01821\, United States
CATEGORIES:Entertainment,Farmers Market,Festival,Food Trucks,Market,Music,Shopping,Specialty Foods,vendors
ATTACH;FMTTYPE=image/jpeg:https://onnspecialties.com/wp-content/uploads/2026/01/2026-Billerica-Farmers-market.jpg
END:VEVENT
BEGIN:VEVENT
DTSTART;TZID=America/New_York:20260717T130000
DTEND;TZID=America/New_York:20260719T190000
DTSTAMP:20260423T123909
CREATED:20260128T205959Z
LAST-MODIFIED:20260128T205959Z
UID:25066-1784293200-1784487600@onnspecialties.com
SUMMARY:Auburn Foodees Fest
DESCRIPTION:FOODEESFEST is delighted to bring our traveling Food & Culture Festival to Auburn\, Massachusetts. This three-day extravaganza offers diverse cuisine\, handcrafted goods\, and a welcoming atmosphere—perfect for families\, foodies\, and everyone in between.
URL:https://onnspecialties.com/event/auburn-foodees-fest/
LOCATION:Auburn\, MA\, 385 Southbridge St\, Auburn\, MA\, 01501-2415\, United States
CATEGORIES:Artisan,Arts & Craft Festival,Culture,Festival,Food Trucks,Specialty Foods,vendors
ATTACH;FMTTYPE=image/jpeg:https://onnspecialties.com/wp-content/uploads/2026/01/2026-Auburn-Foodees-Fest.jpeg
END:VEVENT
BEGIN:VEVENT
DTSTART;TZID=America/New_York:20260720T150000
DTEND;TZID=America/New_York:20260720T190000
DTSTAMP:20260423T123909
CREATED:20260128T213029Z
LAST-MODIFIED:20260128T214038Z
UID:25273-1784559600-1784574000@onnspecialties.com
SUMMARY:2026 Billerica Community Farmers Market July 20
DESCRIPTION:Welcome to The Billerica Community Farmers Market \nJoin us and explore over 40 local vendors offering the freshest produce\, meat\, dairy\, fish\, flowers\, prepared food\, drinks\, quality hand-crafted products and much more.
URL:https://onnspecialties.com/event/2026-billerica-community-farmers-market-july-20/
LOCATION:Billerica Farmers Market\, 793 Boston Road\, Billerica\, MA\, 01821\, United States
CATEGORIES:Entertainment,Farmers Market,Festival,Food Trucks,Market,Music,Shopping,Specialty Foods,vendors
ATTACH;FMTTYPE=image/jpeg:https://onnspecialties.com/wp-content/uploads/2026/01/2026-Billerica-Farmers-market.jpg
END:VEVENT
BEGIN:VEVENT
DTSTART;TZID=America/New_York:20260727T150000
DTEND;TZID=America/New_York:20260727T190000
DTSTAMP:20260423T123909
CREATED:20260128T213115Z
LAST-MODIFIED:20260128T213622Z
UID:25282-1785164400-1785178800@onnspecialties.com
SUMMARY:2026 Billerica Community Farmers Market July 27
DESCRIPTION:Welcome to The Billerica Community Farmers Market \nJoin us and explore over 40 local vendors offering the freshest produce\, meat\, dairy\, fish\, flowers\, prepared food\, drinks\, quality hand-crafted products and much more.
URL:https://onnspecialties.com/event/2026-billerica-community-farmers-market-july-27/
LOCATION:Billerica Farmers Market\, 793 Boston Road\, Billerica\, MA\, 01821\, United States
CATEGORIES:Entertainment,Farmers Market,Festival,Food Trucks,Market,Music,Shopping,Specialty Foods,vendors
ATTACH;FMTTYPE=image/jpeg:https://onnspecialties.com/wp-content/uploads/2026/01/2026-Billerica-Farmers-market.jpg
END:VEVENT
BEGIN:VEVENT
DTSTART;TZID=America/New_York:20260803T150000
DTEND;TZID=America/New_York:20260803T190000
DTSTAMP:20260423T123909
CREATED:20260128T213258Z
LAST-MODIFIED:20260128T213935Z
UID:25293-1785769200-1785783600@onnspecialties.com
SUMMARY:2026 Billerica Community Farmers Market August 3
DESCRIPTION:Welcome to The Billerica Community Farmers Market \nJoin us and explore over 40 local vendors offering the freshest produce\, meat\, dairy\, fish\, flowers\, prepared food\, drinks\, quality hand-crafted products and much more.
URL:https://onnspecialties.com/event/2026-billerica-community-farmers-market-august-3-2/
LOCATION:Billerica Farmers Market\, 793 Boston Road\, Billerica\, MA\, 01821\, United States
CATEGORIES:Entertainment,Farmers Market,Festival,Food Trucks,Market,Music,Shopping,Specialty Foods,vendors
ATTACH;FMTTYPE=image/jpeg:https://onnspecialties.com/wp-content/uploads/2026/01/2026-Billerica-Farmers-market.jpg
END:VEVENT
BEGIN:VEVENT
DTSTART;TZID=America/New_York:20260810T150000
DTEND;TZID=America/New_York:20260810T190000
DTSTAMP:20260423T123909
CREATED:20260128T213351Z
LAST-MODIFIED:20260128T213910Z
UID:25294-1786374000-1786388400@onnspecialties.com
SUMMARY:2026 Billerica Community Farmers Market August 10
DESCRIPTION:Welcome to The Billerica Community Farmers Market \nJoin us and explore over 40 local vendors offering the freshest produce\, meat\, dairy\, fish\, flowers\, prepared food\, drinks\, quality hand-crafted products and much more.
URL:https://onnspecialties.com/event/2026-billerica-community-farmers-market-august-10/
LOCATION:Billerica Farmers Market\, 793 Boston Road\, Billerica\, MA\, 01821\, United States
CATEGORIES:Entertainment,Farmers Market,Festival,Food Trucks,Market,Music,Shopping,Specialty Foods,vendors
ATTACH;FMTTYPE=image/jpeg:https://onnspecialties.com/wp-content/uploads/2026/01/2026-Billerica-Farmers-market.jpg
END:VEVENT
BEGIN:VEVENT
DTSTART;TZID=America/New_York:20260817T150000
DTEND;TZID=America/New_York:20260817T190000
DTSTAMP:20260423T123909
CREATED:20260128T213429Z
LAST-MODIFIED:20260128T213840Z
UID:25303-1786978800-1786993200@onnspecialties.com
SUMMARY:2026 Billerica Community Farmers Market August 17
DESCRIPTION:Welcome to The Billerica Community Farmers Market \nJoin us and explore over 40 local vendors offering the freshest produce\, meat\, dairy\, fish\, flowers\, prepared food\, drinks\, quality hand-crafted products and much more.
URL:https://onnspecialties.com/event/2026-billerica-community-farmers-market-august-17/
LOCATION:Billerica Farmers Market\, 793 Boston Road\, Billerica\, MA\, 01821\, United States
CATEGORIES:Entertainment,Farmers Market,Festival,Food Trucks,Market,Music,Shopping,Specialty Foods,vendors
ATTACH;FMTTYPE=image/jpeg:https://onnspecialties.com/wp-content/uploads/2026/01/2026-Billerica-Farmers-market.jpg
END:VEVENT
BEGIN:VEVENT
DTSTART;TZID=America/New_York:20260824T150000
DTEND;TZID=America/New_York:20260824T190000
DTSTAMP:20260423T123909
CREATED:20260128T213534Z
LAST-MODIFIED:20260128T213733Z
UID:25308-1787583600-1787598000@onnspecialties.com
SUMMARY:2026 Billerica Community Farmers Market August 24
DESCRIPTION:Welcome to The Billerica Community Farmers Market \nJoin us and explore over 40 local vendors offering the freshest produce\, meat\, dairy\, fish\, flowers\, prepared food\, drinks\, quality hand-crafted products and much more.
URL:https://onnspecialties.com/event/2026-billerica-community-farmers-market-august-24-2/
LOCATION:Billerica Farmers Market\, 793 Boston Road\, Billerica\, MA\, 01821\, United States
CATEGORIES:Entertainment,Farmers Market,Festival,Food Trucks,Market,Music,Shopping,Specialty Foods,vendors
ATTACH;FMTTYPE=image/jpeg:https://onnspecialties.com/wp-content/uploads/2026/01/2026-Billerica-Farmers-market.jpg
END:VEVENT
BEGIN:VEVENT
DTSTART;TZID=America/New_York:20260831T150000
DTEND;TZID=America/New_York:20260831T190000
DTSTAMP:20260423T123909
CREATED:20260128T213611Z
LAST-MODIFIED:20260128T213706Z
UID:25314-1788188400-1788202800@onnspecialties.com
SUMMARY:2026 Billerica Community Farmers Market August 31
DESCRIPTION:Welcome to The Billerica Community Farmers Market \nJoin us and explore over 40 local vendors offering the freshest produce\, meat\, dairy\, fish\, flowers\, prepared food\, drinks\, quality hand-crafted products and much more.
URL:https://onnspecialties.com/event/2026-billerica-community-farmers-market-august-31/
LOCATION:Billerica Farmers Market\, 793 Boston Road\, Billerica\, MA\, 01821\, United States
CATEGORIES:Entertainment,Farmers Market,Festival,Food Trucks,Market,Music,Shopping,Specialty Foods,vendors
ATTACH;FMTTYPE=image/jpeg:https://onnspecialties.com/wp-content/uploads/2026/01/2026-Billerica-Farmers-market.jpg
END:VEVENT
BEGIN:VEVENT
DTSTART;TZID=America/New_York:20260905T100000
DTEND;TZID=America/New_York:20260906T170000
DTSTAMP:20260423T123909
CREATED:20260119T190308Z
LAST-MODIFIED:20260119T190340Z
UID:23975-1788602400-1788714000@onnspecialties.com
SUMMARY:Gunstock Labor Day Weekend craft fair 2026
DESCRIPTION:
URL:https://onnspecialties.com/event/gunstock-labor-day-weekend-craft-fair-2026/
LOCATION:Gunstock Mountain Resort\, 719 Cherry Valley Road\, Route 11A\, Gilford\, NH\, United States
CATEGORIES:Arts & Craft Festival,Craft Festival,Festival,Shopping,Specialty Foods,vendors
ATTACH;FMTTYPE=image/jpeg:https://onnspecialties.com/wp-content/uploads/2026/01/Gunstock-Labor-Day-Weekend-Craft-Fair-scaled.jpg
END:VEVENT
END:VCALENDAR