BEGIN:VCALENDAR
VERSION:2.0
PRODID:-//Onn Specialties - ECPv6.15.20//NONSGML v1.0//EN
CALSCALE:GREGORIAN
METHOD:PUBLISH
X-ORIGINAL-URL:https://onnspecialties.com
X-WR-CALDESC:Events for Onn Specialties
REFRESH-INTERVAL;VALUE=DURATION:PT1H
X-Robots-Tag:noindex
X-PUBLISHED-TTL:PT1H
BEGIN:VTIMEZONE
TZID:America/New_York
BEGIN:DAYLIGHT
TZOFFSETFROM:-0500
TZOFFSETTO:-0400
TZNAME:EDT
DTSTART:20250309T070000
END:DAYLIGHT
BEGIN:STANDARD
TZOFFSETFROM:-0400
TZOFFSETTO:-0500
TZNAME:EST
DTSTART:20251102T060000
END:STANDARD
BEGIN:DAYLIGHT
TZOFFSETFROM:-0500
TZOFFSETTO:-0400
TZNAME:EDT
DTSTART:20260308T070000
END:DAYLIGHT
BEGIN:STANDARD
TZOFFSETFROM:-0400
TZOFFSETTO:-0500
TZNAME:EST
DTSTART:20261101T060000
END:STANDARD
BEGIN:DAYLIGHT
TZOFFSETFROM:-0500
TZOFFSETTO:-0400
TZNAME:EDT
DTSTART:20270314T070000
END:DAYLIGHT
BEGIN:STANDARD
TZOFFSETFROM:-0400
TZOFFSETTO:-0500
TZNAME:EST
DTSTART:20271107T060000
END:STANDARD
END:VTIMEZONE
BEGIN:VEVENT
DTSTART;TZID=America/New_York:20260328T080000
DTEND;TZID=America/New_York:20260329T170000
DTSTAMP:20260423T174843
CREATED:20260202T190942Z
LAST-MODIFIED:20260202T191021Z
UID:25500-1774684800-1774803600@onnspecialties.com
SUMMARY:Capital City Craft Festival 2026
DESCRIPTION:Meet the makers and explore thoughtfully crafted work you won’t find in stores. Every exhibitor is juried and carefully selected so the festival feels balanced\, welcoming\, and easy to explore. \nYou’ll find: \n• Handmade jewelry\, fine art\, pottery\, woodwork\, fiber art\, home décor\, and more \n• Specialty foods including sweet treats\, savory goods\, and unique pantry items \n• A convenient snack bar available throughout the weekend
URL:https://onnspecialties.com/event/capital-city-craft-festival-2026/
LOCATION:Everett Arena\, Concord\, NH\, 15 Louden Road\, Concord\, NH\, United States
CATEGORIES:Arts & Craft Festival,Craft Festival,Specialty Foods,vendors
ATTACH;FMTTYPE=image/jpeg:https://onnspecialties.com/wp-content/uploads/2026/02/260328-Capital-City-Craft-Festival-Banner-Eventeny-Cover-1200x400-1.jpg
END:VEVENT
END:VCALENDAR