BEGIN:VCALENDAR
VERSION:2.0
PRODID:-//Onn Specialties - ECPv6.15.20//NONSGML v1.0//EN
CALSCALE:GREGORIAN
METHOD:PUBLISH
X-WR-CALNAME:Onn Specialties
X-ORIGINAL-URL:https://onnspecialties.com
X-WR-CALDESC:Events for Onn Specialties
REFRESH-INTERVAL;VALUE=DURATION:PT1H
X-Robots-Tag:noindex
X-PUBLISHED-TTL:PT1H
BEGIN:VTIMEZONE
TZID:America/New_York
BEGIN:DAYLIGHT
TZOFFSETFROM:-0500
TZOFFSETTO:-0400
TZNAME:EDT
DTSTART:20250309T070000
END:DAYLIGHT
BEGIN:STANDARD
TZOFFSETFROM:-0400
TZOFFSETTO:-0500
TZNAME:EST
DTSTART:20251102T060000
END:STANDARD
BEGIN:DAYLIGHT
TZOFFSETFROM:-0500
TZOFFSETTO:-0400
TZNAME:EDT
DTSTART:20260308T070000
END:DAYLIGHT
BEGIN:STANDARD
TZOFFSETFROM:-0400
TZOFFSETTO:-0500
TZNAME:EST
DTSTART:20261101T060000
END:STANDARD
BEGIN:DAYLIGHT
TZOFFSETFROM:-0500
TZOFFSETTO:-0400
TZNAME:EDT
DTSTART:20270314T070000
END:DAYLIGHT
BEGIN:STANDARD
TZOFFSETFROM:-0400
TZOFFSETTO:-0500
TZNAME:EST
DTSTART:20271107T060000
END:STANDARD
END:VTIMEZONE
BEGIN:VEVENT
DTSTART;VALUE=DATE:20260523
DTEND;VALUE=DATE:20260526
DTSTAMP:20260423T174322
CREATED:20260310T172802Z
LAST-MODIFIED:20260310T172802Z
UID:30052-1779494400-1779753599@onnspecialties.com
SUMMARY:Castleberry Fairs Memorial Weekend 2026
DESCRIPTION:Join Us!!!\nSaturday\, May 23rd: 10 AM – 6 PM \nSunday\, May 24th: 10 AM – 5 PM \nMonday\, May 25th: 10 AM – 4 PM
URL:https://onnspecialties.com/event/castleberry-fairs-memorial-weekend-2026/
LOCATION:Mills Falls Marketplace\, Route 3\, Meredith\, NH\, United States
CATEGORIES:Craft Festival,Fairs,Specialty Foods
ATTACH;FMTTYPE=image/jpeg:https://onnspecialties.com/wp-content/uploads/2026/03/260523-25-Castleberry-Craft-Festival-2026-Meredith-May-Eventeny-1200x400-1.jpg
END:VEVENT
END:VCALENDAR